BEGIN:VCALENDAR
VERSION:2.0
PRODID:-//UMA - ECPv6.0.9//NONSGML v1.0//EN
CALSCALE:GREGORIAN
METHOD:PUBLISH
X-WR-CALNAME:UMA
X-ORIGINAL-URL:https://uma.or.ug
X-WR-CALDESC:Events for UMA
REFRESH-INTERVAL;VALUE=DURATION:PT1H
X-Robots-Tag:noindex
X-PUBLISHED-TTL:PT1H
BEGIN:VTIMEZONE
TZID:UTC
BEGIN:STANDARD
TZOFFSETFROM:+0000
TZOFFSETTO:+0000
TZNAME:UTC
DTSTART:20240101T000000
END:STANDARD
END:VTIMEZONE
BEGIN:VEVENT
DTSTART;TZID=UTC:20240305T080000
DTEND;TZID=UTC:20240305T170000
DTSTAMP:20260422T131349
CREATED:20240306T073152Z
LAST-MODIFIED:20240306T074438Z
UID:255172-1709625600-1709658000@uma.or.ug
SUMMARY:UMA Pre-Budget Dialogue
DESCRIPTION: 
URL:https://uma.or.ug/event/uma-pre-budget-dialogue/
CATEGORIES:Events
ATTACH;FMTTYPE=image/jpeg:https://uma.or.ug/wp-content/uploads/2024/03/WhatsApp-Image-2024-03-02-at-14.05.59_9d66080a.jpg
END:VEVENT
END:VCALENDAR